{
 "currentVersion": 11.3,
 "cimVersion": "3.3.0",
 "serviceDescription": "PLSS Sections within Maricopa County\n",
 "mapName": "Layers",
 "description": "",
 "copyrightText": "Maricopa County GIO",
 "supportsDynamicLayers": false,
 "layers": [
  {
   "id": 0,
   "name": "Sections",
   "parentLayerId": -1,
   "defaultVisibility": false,
   "subLayerIds": null,
   "minScale": 0,
   "maxScale": 0,
   "type": "Feature Layer",
   "geometryType": "esriGeometryPolygon",
   "supportsDynamicLegends": true
  }
 ],
 "tables": [],
 "spatialReference": {
  "wkid": 102100,
  "latestWkid": 3857,
  "xyTolerance": 0.001,
  "zTolerance": 0.001,
  "mTolerance": 0.001,
  "falseX": -20037700,
  "falseY": -30241100,
  "xyUnits": 1.4892314192838538E8,
  "falseZ": -100000,
  "zUnits": 10000,
  "falseM": -100000,
  "mUnits": 10000
 },
 "singleFusedMapCache": true,
 "tileInfo": {
  "rows": 256,
  "cols": 256,
  "dpi": 96,
  "format": "PNG32",
  "compressionQuality": 0,
  "origin": {
   "x": -2.0037508342787E7,
   "y": 2.0037508342787E7
  },
  "spatialReference": {
   "wkid": 102100,
   "latestWkid": 3857,
   "xyTolerance": 0.001,
   "zTolerance": 0.001,
   "mTolerance": 0.001,
   "falseX": -20037700,
   "falseY": -30241100,
   "xyUnits": 1.4892314192838538E8,
   "falseZ": -100000,
   "zUnits": 10000,
   "falseM": -100000,
   "mUnits": 10000
  },
  "lods": [
   {
    "level": 0,
    "resolution": 76.43702828507324,
    "scale": 288895.277144
   },
   {
    "level": 1,
    "resolution": 38.21851414253662,
    "scale": 144447.638572
   },
   {
    "level": 2,
    "resolution": 19.10925707126831,
    "scale": 72223.819286
   },
   {
    "level": 3,
    "resolution": 9.554628535634155,
    "scale": 36111.909643
   },
   {
    "level": 4,
    "resolution": 4.77731426794937,
    "scale": 18055.954822
   },
   {
    "level": 5,
    "resolution": 2.388657133974685,
    "scale": 9027.977411
   },
   {
    "level": 6,
    "resolution": 1.1943285668550503,
    "scale": 4513.988705
   },
   {
    "level": 7,
    "resolution": 0.5971642835598172,
    "scale": 2256.994353
   },
   {
    "level": 8,
    "resolution": 0.29858214164761665,
    "scale": 1128.497176
   }
  ]
 },
 "storageInfo": {
  "storageFormat": "esriMapCacheStorageModeCompactV2",
  "packetSize": 128
 },
 "initialExtent": {
  "xmin": -1.2807434110370025E7,
  "ymin": 3913207.5795696224,
  "xmax": -1.2170210943729974E7,
  "ymax": 4093371.245279998,
  "spatialReference": {
   "wkid": 102100,
   "latestWkid": 3857,
   "xyTolerance": 0.001,
   "zTolerance": 0.001,
   "mTolerance": 0.001,
   "falseX": -20037700,
   "falseY": -30241100,
   "xyUnits": 1.4892314192838538E8,
   "falseZ": -100000,
   "zUnits": 10000,
   "falseM": -100000,
   "mUnits": 10000
  }
 },
 "fullExtent": {
  "xmin": -1.26487338906E7,
  "ymin": 3795974.7854999974,
  "xmax": -1.23289111635E7,
  "ymax": 4079209.5090999976,
  "spatialReference": {
   "wkid": 102100,
   "latestWkid": 3857,
   "xyTolerance": 0.001,
   "zTolerance": 0.001,
   "mTolerance": 0.001,
   "falseX": -20037700,
   "falseY": -30241100,
   "xyUnits": 1.4892314192838538E8,
   "falseZ": -100000,
   "zUnits": 10000,
   "falseM": -100000,
   "mUnits": 10000
  }
 },
 "datesInUnknownTimezone": false,
 "minScale": 288895.277144,
 "maxScale": 1128.497176,
 "units": "esriMeters",
 "supportedImageFormatTypes": "PNG32,PNG24,PNG,JPG,DIB,TIFF,EMF,PS,PDF,GIF,SVG,SVGZ,BMP",
 "documentInfo": {
  "Title": "Sections",
  "Author": "Maricopa County Assessor's Office",
  "Comments": "PLSS Sections within Maricopa County\n",
  "Subject": "PLSS Sections within Maricopa County",
  "Category": "",
  "Version": "10.1",
  "AntialiasingMode": "None",
  "TextAntialiasingMode": "Force",
  "Keywords": "Maricopa County,Assessor,PLSS,Sections"
 },
 "supportsQueryDomains": true,
 "capabilities": "Map,Query,Data",
 "supportedQueryFormats": "JSON, geoJSON, PBF",
 "exportTilesAllowed": false,
 "referenceScale": 0.0,
 "supportsDatumTransformation": true,
 "archivingInfo": {
  "supportsHistoricMoment": false
 },
 "supportsClipping": true,
 "supportsSpatialFilter": true,
 "supportsTimeRelation": true,
 "supportsQueryDataElements": true,
 "mapUnits": {
  "uwkid": 9001
 },
 "maxRecordCount": 1000,
 "maxImageHeight": 4096,
 "maxImageWidth": 4096,
 "supportedExtensions": "KmlServer",
 "resampling": false
}
