View In:
  ArcGIS JavaScript
  ArcGIS Online Map Viewer
  ArcGIS Earth
  ArcGIS Pro
Service Description:  
Map Name:  Layers
Legend
All Layers and Tables
Layers: 
Description:  
Copyright Text:   
Spatial Reference: 
102100
 (3857)
 LatestVCSWkid(0)
Single Fused Map Cache:  true
Tile Info: 
- Height: 256.0
 
- Width: 256.0
 
- DPI: 96.0
 
- 
Levels of Detail:  24
- 
Level ID: 1
[ Start Tile, End Tile ]
 
- Resolution: 78271.5169639999
 
- Scale: 2.95828763795777E8
 
- 
Level ID: 2
[ Start Tile, End Tile ]
 
- Resolution: 39135.7584820001
 
- Scale: 1.47914381897889E8
 
- 
Level ID: 3
[ Start Tile, End Tile ]
 
- Resolution: 19567.8792409999
 
- Scale: 7.3957190948944E7
 
- 
Level ID: 4
[ Start Tile, End Tile ]
 
- Resolution: 9783.93962049996
 
- Scale: 3.6978595474472E7
 
- 
Level ID: 5
[ Start Tile, End Tile ]
 
- Resolution: 4891.96981024998
 
- Scale: 1.8489297737236E7
- Format: Mixed
 
- Compression Quality: 75.0
 
- Origin: X:  -2.0037508342787E7
Y:  2.0037508342787E7
 
- Spatial Reference: 102100
 (3857)
 LatestVCSWkid(0)
 
Storage Info: 
- Storage Format: esriMapCacheStorageModeCompactV2
 
- Packet Size: 128
 
Initial Extent: 
XMin: -1.2652878121299889E7
YMin: 3914779.2897223593
XMax: -1.245082224594663E7
YMax: 4074297.0860538795
Spatial Reference: 102100
 (0)
 LatestVCSWkid(0)
Full Extent: 
XMin: -1.26487338906E7
YMin: 3795974.7854999974
XMax: -1.23289111635E7
YMax: 4079209.5090999976
Spatial Reference: 102100
 (0)
 LatestVCSWkid(0)
Units:  esriMeters
Supported Image Format Types:  PNG32,PNG24,PNG,JPG,DIB,TIFF,EMF,PS,PDF,GIF,SVG,SVGZ,BMP
Document Info: 
Title: Map
Author: 
Comments: 
Subject: 
Category: 
Keywords: Assessor
AntialiasingMode: Fast
TextAntialiasingMode: Force
Supports Dynamic Layers:  false
Resampling:  true
MaxRecordCount:  2000
MaxSelectionCount:  2000
MaxImageHeight:  4096
MaxImageWidth:  4096
Supported Query Formats:  JSON, geoJSON, PBF
Supports Query Data Elements:  true
Min Scale:  1155581.108577
Max Scale:  141.062147
Supports Datum Transformation:  true
Child Resources:
  
Info
 
Supported Operations:
  
Export Map
  Identify
  QueryLegends
  QueryDomains
  Find
  Return Updates