View In:
  ArcGIS JavaScript
  ArcGIS Online Map Viewer
  ArcGIS Earth
  ArcGIS Pro
Service Description:  Streets within Maricopa County
Map Name:  Layers
Legend
All Layers and Tables
Layers: 
Description:  
Copyright Text:  Maricopa County GIO 
Spatial Reference: 
102100
 (3857)
 LatestVCSWkid(0)
Single Fused Map Cache:  true
Tile Info: 
- Height: 256.0
 
- Width: 256.0
 
- DPI: 96.0
 
- 
Levels of Detail:  24
- 
Level ID: 1
[ Start Tile, End Tile ]
 
- Resolution: 78271.5169639999
 
- Scale: 2.95828763795777E8
 
- 
Level ID: 2
[ Start Tile, End Tile ]
 
- Resolution: 39135.7584820001
 
- Scale: 1.47914381897889E8
 
- 
Level ID: 3
[ Start Tile, End Tile ]
 
- Resolution: 19567.8792409999
 
- Scale: 7.3957190948944E7
 
- 
Level ID: 4
[ Start Tile, End Tile ]
 
- Resolution: 9783.93962049996
 
- Scale: 3.6978595474472E7
 
- 
Level ID: 5
[ Start Tile, End Tile ]
 
- Resolution: 4891.96981024998
 
- Scale: 1.8489297737236E7
- Format: PNG
 
- Compression Quality: 0.0
 
- Origin: X:  -2.0037508342787E7
Y:  2.0037508342787E7
 
- Spatial Reference: 102100
 (3857)
 LatestVCSWkid(0)
 
Storage Info: 
- Storage Format: esriMapCacheStorageModeCompactV2
 
- Packet Size: 128
 
Initial Extent: 
XMin: -1.2611994813643498E7
YMin: 3950171.669791284
XMax: -1.229826449868287E7
YMax: 4038873.409694764
Spatial Reference: 102100
 (0)
 LatestVCSWkid(0)
Full Extent: 
XMin: -1.26162782898E7
YMin: 3829767.4135000035
XMax: -1.23609079503E7
YMax: 4035277.5656000003
Spatial Reference: 102100
 (0)
 LatestVCSWkid(0)
Units:  esriMeters
Supported Image Format Types:  PNG32,PNG24,PNG,JPG,DIB,TIFF,EMF,PS,PDF,GIF,SVG,SVGZ,BMP
Document Info: 
Title: Streets
Author: Maricopa County Assessor's Office
Comments: Streets within Maricopa County
Subject: Streets within Maricopa County
Category: 
Keywords: Maricopa County,Assessor,Streets
AntialiasingMode: None
TextAntialiasingMode: Force
Supports Dynamic Layers:  false
Resampling:  true
MaxRecordCount:  1000
MaxSelectionCount:  2000
MaxImageHeight:  4096
MaxImageWidth:  4096
Supported Query Formats:  JSON, geoJSON, PBF
Supports Query Data Elements:  true
Min Scale:  1155581.108577
Max Scale:  0
Supports Datum Transformation:  true
Child Resources:
  
Info
 
Supported Operations:
  
Export Map
  Identify
  QueryLegends
  QueryDomains
  Find
  Return Updates
  Generate KML